BEGIN:VCALENDAR
PRODID:NingEventWidget-v1
VERSION:2.0
METHOD:PUBLISH
BEGIN:VTIMEZONE
TZID:America/Anguilla
X-LIC-LOCATION:America/Anguilla
BEGIN:STANDARD
TZOFFSETFROM:-0400
TZOFFSETTO:-0400
TZNAME:AST
DTSTART:19700101T000000
END:STANDARD
END:VTIMEZONE
BEGIN:VEVENT
UID:1971797:Event:7862292
DTSTAMP:20260420T233925Z
SUMMARY:PIR 6/28/2013 Flanagan's Meet & Greet
DESCRIPTION:\nEveryones invited, including Children!\nWe have set up a
  special evening for family members of graduating Navy sailors to spen
 d with other's who are also in the area for the Navy Graduation. Pleas
 e Join Us each Thursday from 5pm - 9pm, or the day before Graduation f
 or a relaxing evening at Flanagan's where you can converse with others
  in the area for the same reason, their graduating sailor. \nWe have 
 set up a room specifically for the meet and greet, that will have free
  appetizer buffet and music. You will also receive a $10 gift certifca
 te for your graduate to have a meal of their choice (steaks and seafoo
 d included) after graduation. You can receive the gift certificate at 
 the restaurant at the Meet & Greet or ask your hotel receptionist for 
 one (Red Carpet Inn, Day's Inn, Sleep Inn, Navy Lodge, Great Lakes Mot
 el, and participating Holiday Inn, Mariott, Residence Inn in the Great
  Lakes, North Chicago and Waukegan area).\n \nThe Meet & Greet:\n- Fr
 ee appetizer buffet which can include:\n\nBBQ Rib Tips\nTeriaki Wings\
 nBuffalo Wings\nVeggie Tray\nBreaded Mushrooms\nTempura Batterred Onio
 n Rings\nBoneless Buffalo Wings\n\n- Free music and Karaoke starting a
 t 8:00pm\n- $10 Gift Certificate for navy graduates meal (steak and se
 afood included)\n- You may use your $10 gift certificate you received 
 from participating hotels (or ask for one when you come in) for dinner
  during or after the Meet & Greet at Flanagan's.\n- Pool tables, Dart'
 s, and video gaming systems available.\n- $1 Domestic Tap\n- $2 Import
  Tap\n- $2 Domestic Bottle\n \nThe Meet and Greet will begin at 5pm e
 ach Thusrday, or day before Graduation, and will end around 9pm.\nWe a
 re located 2 minute drive from the Navy base and in walking distance o
 f Red Carpet Inn, Day's Inn, Great Lakes Motel, and Sleep Inn and a qu
 ick 5 minute drive from Fountain Square (Waukegan) hotels.\nThank you 
 for your support. God Bless our troops and much success to them, where
 ver their paths may lead.\ntel: 847.689.9062\n\nWe are located adjacen
 t to\n\n\nFor more information visit https://navyformoms.ning.com/even
 ts/pir-6-28-2013-flanagan-s-meet-greet
DTSTART;TZID=America/Anguilla:20130627T170000
DTEND;TZID=America/Anguilla:20130627T210000
CATEGORIES:meet, "&", greet
LOCATION:Flanagan's Sports Bar and Grill
WEBSITE:http://www.flanagansbar.com/
URL:http://www.flanagansbar.com/
CONTACT:847.689.9062
ORGANIZER:Gus
ATTACH;FMTTYPE="image/jpeg":http://storage.ning.com/topology/rest/1.0/
 file/get/1997914582?profile=original
ATTENDEE;ROLE=REQ-PARTICIPANT;PARTSTAT=ACCEPTED;RSVP=TRUE;CN=suesue:ht
 tps://navyformoms.ning.com/profile/suesue758
ATTENDEE;ROLE=REQ-PARTICIPANT;PARTSTAT=ACCEPTED;RSVP=TRUE;CN=peterp:ht
 tps://navyformoms.ning.com/profile/peterp
ATTENDEE;ROLE=REQ-PARTICIPANT;PARTSTAT=TENTATIVE;RSVP=TRUE;CN=Elizabet
 h:https://navyformoms.ning.com/profile/ElizabethFreeman
END:VEVENT
END:VCALENDAR
